BEGIN:VCALENDAR
PRODID:georgia.gov
VERSION:2.0
CALSCALE:GREGORIAN
BEGIN:VEVENT
UID:46fc5e7ed777e039a8c1f3ea6aa86b52
DTSTAMP:20260421T074328Z
SUMMARY:Last Day to Register to Vote in the Runoff Election
DESCRIPTION:Eligible Georgians can register to vote through the Secretary o
 f State’s Office.\n\nTo register to vote in Georgia\, you must:Be a citi
 zen of the United StatesBe a legal resident of the countyBe at least 17 1/
 2 years of age to register and 18 years of age to voteNot be serving a sen
 tence for conviction of a felony involving moral turpitudeHave not been fo
 und mentally incompetent by a judge \n\nYou can check your voter registra
 tion status and find voter ID requirements on the Secretary of State's My 
 Voter Page.
URL:https://georgia.gov/events/2026-11-02/last-day-register-vote-runoff-ele
 ction
DTSTART;VALUE=DATE:20261102
DTEND;VALUE=DATE:20261103
X-LIC-LOCATION:America/New_York
X-WR-TIMEZONE:America/New_York
END:VEVENT
BEGIN:VTIMEZONE
TZID:America/New_York
END:VTIMEZONE
END:VCALENDAR
