BEGIN:VCALENDAR
PRODID:georgia.gov
VERSION:2.0
CALSCALE:GREGORIAN
BEGIN:VEVENT
UID:f7343b7e3e9f5b744fbd9d16caf521c0
DTSTAMP:20260422T082830Z
SUMMARY:General Election Early Voting
DESCRIPTION:Unlike Election Day\, you do not have to vote at an assigned po
 lling location during early voting. You may vote at any early voting locat
 ion within your county.\n\nFind available early voting locations by visit
 ing the Secretary of State’s website and selecting your county of resid
 ence from the list. You can also find available locations by logging into 
 your My Voter Page and looking at your polling place information. If no 
 information is available\, it may be too early and you should check back c
 loser to the early voting period.\n\nIf you have questions about your avai
 lable early voting locations or if it is closer to the early voting perio
 d and no information is posted\, you can contact your county registrar fo
 r more information.\n\nEarly voting takes place Monday through Friday\, an
 d the second and third Saturdays before Election Day. Some polling locatio
 ns may be open on the second and third Sundays. During early voting\, poll
 s are typically open from 9 AM to 5 PM on weekdays and 9 AM to 4 PM on Sat
 urdays. Exact hours may vary.
URL:https://georgia.gov/events/2026-10-13/general-election-early-voting
DTSTART;VALUE=DATE:20261013
DTEND;VALUE=DATE:20261031
X-LIC-LOCATION:America/New_York
X-WR-TIMEZONE:America/New_York
END:VEVENT
BEGIN:VTIMEZONE
TZID:America/New_York
END:VTIMEZONE
END:VCALENDAR
