BEGIN:VCALENDAR
PRODID:georgia.gov
VERSION:2.0
CALSCALE:GREGORIAN
BEGIN:VEVENT
UID:6a776e7049713668891e724110734778
DTSTAMP:20260421T092331Z
SUMMARY:First Day Registrars May Mail Absentee Ballots for General Election
DESCRIPTION:If you plan to vote by mail in 2026\, following these timelines
  and guidelines will ensure your voice is heard.Plan Ahead\n\nAfter your c
 ounty registrar processes your request\, it can take up to two weeks for y
 our ballot to arrive in the mail.\n\nIf you are mailing your completed bal
 lot back\, we recommend sending it at least two weeks before Election Day 
 to account for any postal delaysDeadlines for the 2026 General Election\n\
 nFor your vote to be counted\, your completed and signed absentee ballot m
 ust be received by your county elections office by 7 p.m. on Election Day\
 , November 3\, 2026.Three Ways to Return Your Ballot\n\nUse the provided p
 re-addressed envelopes. Ensure you apply proper postage if required.\n\nYo
 u can use an official absentee ballot drop box within your county. Under G
 eorgia law\, drop boxes are now located inside early voting sites and are 
 only accessible during early voting hours.\n\nYou may hand-deliver your ba
 llot directly to your County Registrar's office during their regular busin
 ess hours.Track Your Ballot\n\nPeace of mind is just a click away. You can
  monitor the status of your absentee request and see when your ballot has 
 been received and accepted by logging into the Georgia My Voter Page.\n\nE
 nsure you provide your Georgia Driver's License\, State ID number\, or a c
 opy of an acceptable alternative ID on both your application and ballot en
 velope as required by state law.
URL:https://georgia.gov/events/2026-10-05/first-day-registrars-may-mail-abs
 entee-ballots-general-election
DTSTART;VALUE=DATE:20261005
DTEND;VALUE=DATE:20261006
X-LIC-LOCATION:America/New_York
X-WR-TIMEZONE:America/New_York
END:VEVENT
BEGIN:VTIMEZONE
TZID:America/New_York
END:VTIMEZONE
END:VCALENDAR
