BEGIN:VCALENDAR
PRODID:georgia.gov
VERSION:2.0
CALSCALE:GREGORIAN
BEGIN:VEVENT
UID:e07a6da748ff58ab3e54883693274c11
DTSTAMP:20260421T074214Z
SUMMARY:Last Day UOCAVA Ballots Will Be Accepted for General Election Runof
 f
DESCRIPTION:If you are an active-duty service member\, military family memb
 er\, or U.S. citizen living abroad\, you are protected by the Uniformed an
 d Overseas Citizens Absentee Voting Act (UOCAVA). This act ensures you can
  participate in Georgia's 2026 elections regardless of where you are stati
 oned or living.Your Voting Options\n\nAs a UOCAVA voter\, you have flexibl
 e options for receiving and returning your ballot:You can receive your bla
 nk ballot via email or a secure online portal to speed up the process.You 
 can choose to have a traditional paper ballot mailed to your overseas or o
 ut-of-state address.For runoff elections\, Georgia provides special instan
 t runoff ballots to UOCAVA voters to ensure your vote counts even if inter
 national mail is delayed.How to Get Started\n\nUse the Federal Post Card A
 pplication (FPCA) to register to vote and request your absentee ballots fo
 r the entire 2026 cycle.\n\nYou can send your completed FPCA to your Count
 y Registrar via email\, fax\, or mail.\n\nFor the General Election on Nove
 mber 3\, 2026\, your ballot must be postmarked by Election Day and receive
 d by your county within three days.\n\nFor detailed instructions and to do
 wnload necessary forms\, visit the Georgia Secretary of State's Military a
 nd Overseas Voting page.
URL:https://georgia.gov/events/2026-12-04/last-day-uocava-ballots-will-be-a
 ccepted-general-election-runoff
DTSTART;VALUE=DATE:20261204
DTEND;VALUE=DATE:20261205
X-LIC-LOCATION:America/New_York
X-WR-TIMEZONE:America/New_York
END:VEVENT
BEGIN:VTIMEZONE
TZID:America/New_York
END:VTIMEZONE
END:VCALENDAR
