BEGIN:VCALENDAR
PRODID:georgia.gov
VERSION:2.0
CALSCALE:GREGORIAN
BEGIN:VEVENT
UID:e776a563e4c0ff432fbb89a1d590ed44
DTSTAMP:20260421T074333Z
SUMMARY:Election Day - General Election Runoff
DESCRIPTION:If you are voting at the polls in 2026\, here is what you need 
 to know about the process.Runoff Elections\n\nIn Georgia\, if no candidate
  receives a majority of the vote (50 percent plus one) in the General Elec
 tion\, the top two finishers will advance to a runoff.Polling Hours\n\nPol
 ls are open from 7 a.m. to 7 p.m. If you are in line by 7 p.m.\, you will 
 be allowed to cast your ballot.Mandatory Photo ID\n\nYou are required to s
 how a valid photo ID to vote in person:A Georgia driver's license\, even i
 f expired\; U.S. passport\; military ID\; or tribal IDIf you do not have a
  valid ID\, you can obtain a free Georgia Voter ID Card at any County Boar
 d of Registrar's Office or Department of Driver Services (DDS).At the Poll
 ing Place\n\nWhen you arrive\, a poll worker will:Verify your photo IDConf
 irm you are registered and at the correct precinctIssue you a voter access
  card or paper ballot to cast your voteProvisional Ballot\n\nIf your name 
 is not on the list or there is an issue with your eligibility\, you can re
 quest a provisional ballot.\n\nYour vote will be set aside and counted as 
 long as you resolve the eligibility issue\, such as providing a missing ID
 \, with your county registrar within three days after the election.Reporti
 ng Issues\n\nIf you encounter any problems at the polls\, please contact y
 our County Board of Registrar's Office or the Georgia Secretary of State:(
 404) 656-2871\, Metro Atlanta(877) 725-9797\, toll-freeSubmit a complaint 
 via the Secretary of State's website.Absentee Ballot Reminder\n\nIf you ar
 e returning a mail-in ballot\, it must be received by your county registra
 r by 7 p.m. on Election Day to be counted.
URL:https://georgia.gov/events/2026-12-01/election-day-general-election-run
 off
DTSTART;VALUE=DATE:20261201
DTEND;VALUE=DATE:20261202
X-LIC-LOCATION:America/New_York
X-WR-TIMEZONE:America/New_York
END:VEVENT
BEGIN:VTIMEZONE
TZID:America/New_York
END:VTIMEZONE
END:VCALENDAR
