BEGIN:VCALENDAR
PRODID:georgia.gov
VERSION:2.0
CALSCALE:GREGORIAN
BEGIN:VEVENT
UID:f98073900ccefec8fd4cc9dd9732b45e
DTSTAMP:20260421T074213Z
SUMMARY:General Election Runoff Early Voting
DESCRIPTION:Early voting\, also known as advanced voting\, is one of the mo
 st convenient ways to cast your ballot. It allows you to skip the Election
  Day rush and find a time that fits your schedule.Key Dates for 2026Genera
 l Primary Early Voting: April 27 to May 15\, 2026General Election Early Vo
 ting: October 13 to 30\, 2026General Election Runoff if needed: Tuesday\, 
 December 1\, 2026Where to Vote\n\nUnlike Election Day\, you are not restri
 cted to your assigned precinct. You may vote at any early voting location 
 within your county of residence.\n\nVisit the Georgia My Voter Page or Sec
 retary of State's website. If no locations are listed yet\, check back clo
 ser to the start of the early voting period or contact your County Registr
 ar directly.Typical Hours and Weekend Voting\n\nState law guarantees early
  voting days\, though exact hours are set by each county:Generally\, Monda
 y through Friday\, 9 a.m. to 5 p.m. Counties may choose to open as early a
 s 7 a.m. to close as late as 7 p.m.Mandatory voting is available on the se
 cond and third Saturdays before an election\, typically 9 a.m. to 4 p.m.Co
 unties have the option to offer voting on the second and third Sundays. Ch
 eck your local schedule for availability.\n\nRemember to bring a valid gov
 ernment-issued photo ID to the polls. If you are voting by mail\, ensure y
 our absentee ballot is received by your county registrar by 7 p.m. on Elec
 tion Day to be counted.
URL:https://georgia.gov/events/2026-11-23/general-election-runoff-early-vot
 ing
DTSTART;VALUE=DATE:20261123
DTEND;VALUE=DATE:20261126
X-LIC-LOCATION:America/New_York
X-WR-TIMEZONE:America/New_York
END:VEVENT
BEGIN:VTIMEZONE
TZID:America/New_York
END:VTIMEZONE
END:VCALENDAR
