BEGIN:VCALENDAR
PRODID:georgia.gov
VERSION:2.0
CALSCALE:GREGORIAN
BEGIN:VEVENT
UID:a2ccc9330834bda9712d728b494e4892
DTSTAMP:20260421T092433Z
SUMMARY:Last Day to Request Absentee Ballots for Runoff Election
DESCRIPTION:When no candidate receives a majority of votes in the general e
 lection\, a runoff between the top two vote-getters is required. If a gen
 eral election runoff is necessary\, it will be held on Tuesday\, December 
 1\, 2026.\n\nIt may take up to two weeks to receive your absentee ballot f
 rom your county registrar.\n\nIf you are mailing back your absentee ballot
  after you've completed and signed it\, it is recommended that you allow a
 n additional two weeks for it to be received.\n\nYou may also drop off you
 r completed and signed absentee ballot into your county's absentee ballot 
 drop box or hand deliver it to your county registrar.\n\nYou can track you
 r absentee ballot on your My Voter Page.
URL:https://georgia.gov/events/2026-11-20/last-day-request-absentee-ballots
 -runoff-election
DTSTART;VALUE=DATE:20261120
DTEND;VALUE=DATE:20261121
X-LIC-LOCATION:America/New_York
X-WR-TIMEZONE:America/New_York
END:VEVENT
BEGIN:VTIMEZONE
TZID:America/New_York
END:VTIMEZONE
END:VCALENDAR
