BEGIN:VCALENDAR
PRODID:georgia.gov
VERSION:2.0
CALSCALE:GREGORIAN
BEGIN:VEVENT
UID:47747443377021966a1b270cc13f4e70
DTSTAMP:20260421T092503Z
SUMMARY:Last Day for Registered Voters to Change Address for Runoff Electio
 n
URL:https://georgia.gov/events/2026-11-02/last-day-registered-voters-change
 -address-runoff-election
DTSTART;VALUE=DATE:20261102
DTEND;VALUE=DATE:20261103
X-LIC-LOCATION:America/New_York
X-WR-TIMEZONE:America/New_York
END:VEVENT
BEGIN:VTIMEZONE
TZID:America/New_York
END:VTIMEZONE
END:VCALENDAR
