BEGIN:VCALENDAR
PRODID:georgia.gov
VERSION:2.0
CALSCALE:GREGORIAN
BEGIN:VEVENT
UID:a54374ecaa143b12319b72a2043c9211
DTSTAMP:20260421T074326Z
SUMMARY:Last Day UOCAVA Ballots Will Be Accepted for General Election
DESCRIPTION:If you are in the military\, a family member of an active servi
 ce member\, or you are currently living in another country\, the Uniformed
  and Overseas Citizens Absentee Voting Act (UOCAVA) entitles you to vote v
 ia electronic or mail ballot.\n\nTo find out more about UOCAVA ballots\, v
 isit the Georgia Secretary of State's website.
URL:https://georgia.gov/events/2026-11-06/last-day-uocava-ballots-will-be-a
 ccepted-general-election
DTSTART;VALUE=DATE:20261106
DTEND;VALUE=DATE:20261107
X-LIC-LOCATION:America/New_York
X-WR-TIMEZONE:America/New_York
END:VEVENT
BEGIN:VTIMEZONE
TZID:America/New_York
END:VTIMEZONE
END:VCALENDAR
