BEGIN:VCALENDAR
PRODID:georgia.gov
VERSION:2.0
CALSCALE:GREGORIAN
BEGIN:VEVENT
UID:c291924dd3da6b300153f5d2a7c2510d
DTSTAMP:20260421T074327Z
SUMMARY:Last Day to Submit Completed Absentee Ballots for General Election
URL:https://georgia.gov/events/2026-11-03/last-day-submit-completed-absente
 e-ballots-general-election
DTSTART;VALUE=DATE:20261103
DTEND;VALUE=DATE:20261104
X-LIC-LOCATION:America/New_York
X-WR-TIMEZONE:America/New_York
END:VEVENT
BEGIN:VTIMEZONE
TZID:America/New_York
END:VTIMEZONE
END:VCALENDAR
