BEGIN:VCALENDAR
PRODID:georgia.gov
VERSION:2.0
CALSCALE:GREGORIAN
BEGIN:VEVENT
UID:5485426e9b402503394f77aeb68effec
DTSTAMP:20260421T074333Z
SUMMARY:Last Day to Request Absentee Ballots for General Election
DESCRIPTION:It may take up to two weeks to receive your absentee ballot fro
 m your county registrar.\n\nIf you are mailing back your absentee ballot a
 fter you've completed and signed it\, it is recommended that you allow an 
 additional two weeks for it to be received.\n\nYou may also drop off your 
 completed and signed absentee ballot into your county's absentee ballot dr
 op box or hand deliver it to your county registrar.\n\nYou can track your 
 absentee ballot on your My Voter Page.
URL:https://georgia.gov/events/2026-10-23/last-day-request-absentee-ballots
 -general-election
DTSTART;VALUE=DATE:20261023
DTEND;VALUE=DATE:20261024
X-LIC-LOCATION:America/New_York
X-WR-TIMEZONE:America/New_York
END:VEVENT
BEGIN:VTIMEZONE
TZID:America/New_York
END:VTIMEZONE
END:VCALENDAR
