BEGIN:VCALENDAR
PRODID:georgia.gov
VERSION:2.0
CALSCALE:GREGORIAN
BEGIN:VEVENT
UID:8a98d5f1c50bebf7280ba9e609212f41
DTSTAMP:20260421T074204Z
SUMMARY:Second (and Last) Sunday for Early Voting in General Election (Opti
 onal)
DESCRIPTION:Early voting (sometimes referred to as advanced voting) can hel
 p Georgia voters avoid crowds or find a time to vote that’s better for t
 heir schedules in the weeks prior to Election Day.\n\nUnlike Election Day\
 , you do not have to vote at an assigned polling location during early vot
 ing. You may vote at any early voting location within your county.\n\nDuri
 ng early voting\, polls are typically open from 9 a.m. to 5 p.m. on weekda
 ys and 9 a.m. to 4 p.m. on weekends. Exact hours may vary.\n\nLocal electi
 ons officials may allow early voting beyond regular weekday business hour
 s\, but it’s up to the county.
URL:https://georgia.gov/events/2026-10-25/second-and-last-sunday-early-voti
 ng-general-election-optional
DTSTART;VALUE=DATE:20261025
DTEND;VALUE=DATE:20261026
X-LIC-LOCATION:America/New_York
X-WR-TIMEZONE:America/New_York
END:VEVENT
BEGIN:VTIMEZONE
TZID:America/New_York
END:VTIMEZONE
END:VCALENDAR
