BEGIN:VCALENDAR
PRODID:georgia.gov
VERSION:2.0
CALSCALE:GREGORIAN
BEGIN:VEVENT
UID:a06a660f9d9dee343e8d0c00cfa68642
DTSTAMP:20260421T092509Z
SUMMARY:Second (and Last) Saturday for Early Voting in General Election
DESCRIPTION:Early voting (sometimes referred to as advanced voting) can hel
 p Georgia voters avoid crowds or find a time to vote that’s better for t
 heir schedules in the weeks prior to Election Day.\n\nUnlike Election Day\
 , you do not have to vote at an assigned polling location during early vot
 ing. You may vote at any early voting location within your county.\n\nEarl
 y voting takes place Monday through Friday\, and the second and third Satu
 rdays before Election Day. Some polling locations may be open on the secon
 d and third Sundays.\n\nDuring early voting\, polls are typically open fro
 m 9 a.m. to 5 p.m. on weekdays and 9 a.m. to 4 p.m. on Saturdays. Exact ho
 urs may vary.\n\nLocal elections officials may allow early voting beyond 
 regular weekday business hours\, but it’s up to the county.
URL:https://georgia.gov/events/2026-10-24/second-and-last-saturday-early-vo
 ting-general-election
DTSTART;VALUE=DATE:20261024
DTEND;VALUE=DATE:20261025
X-LIC-LOCATION:America/New_York
X-WR-TIMEZONE:America/New_York
END:VEVENT
BEGIN:VTIMEZONE
TZID:America/New_York
END:VTIMEZONE
END:VCALENDAR
