BEGIN:VCALENDAR
PRODID:georgia.gov
VERSION:2.0
CALSCALE:GREGORIAN
BEGIN:VEVENT
UID:0d8bb7a387dffa1abdf81617c147175d
DTSTAMP:20260421T074335Z
SUMMARY:First Sunday for Early Voting in General Election (Optional)
DESCRIPTION:Early voting (sometimes referred to as advanced voting) can hel
 p Georgia voters avoid crowds or find a time to vote that’s better for t
 heir schedules in the weeks prior to Election Day.\n\nUnlike Election Day\
 , you do not have to vote at an assigned polling location during early vot
 ing. You may vote at any early voting location within your county.\n\nDuri
 ng early voting\, polls are typically open from 9 a.m. to 5 p.m. on weekda
 ys and 9 a.m. to 4 p.m. on weekends. Exact hours may vary.\n\nLocal electi
 ons officials may allow early voting beyond regular weekday business hour
 s\, but it’s up to the county.
URL:https://georgia.gov/events/2026-10-18/first-sunday-early-voting-general
 -election-optional
DTSTART;VALUE=DATE:20261018
DTEND;VALUE=DATE:20261019
X-LIC-LOCATION:America/New_York
X-WR-TIMEZONE:America/New_York
END:VEVENT
BEGIN:VTIMEZONE
TZID:America/New_York
END:VTIMEZONE
END:VCALENDAR
