BEGIN:VCALENDAR
PRODID:georgia.gov
VERSION:2.0
CALSCALE:GREGORIAN
BEGIN:VEVENT
UID:96fceadba448c24a7cd1f517044db7e1
DTSTAMP:20260421T074204Z
SUMMARY:Last Day to Register to Vote in the General Election
DESCRIPTION:Eligible Georgians can register to vote through the Secretary o
 f State’s Office.\n\nTo register to vote in Georgia\, you must:Be a citi
 zen of the United StatesBe a legal resident of the countyBe at least 17 1/
 2 years of age to register and 18 years of age to voteNot be serving a sen
 tence for conviction of a felony involving moral turpitudeHave not been fo
 und mentally incompetent by a judge \n\nYou can check your voter registra
 tion status and find voter ID requirements on the Secretary of State's My 
 Voter Page.
URL:https://georgia.gov/events/2026-10-05/last-day-register-vote-general-el
 ection
DTSTART;VALUE=DATE:20261005
DTEND;VALUE=DATE:20261006
X-LIC-LOCATION:America/New_York
X-WR-TIMEZONE:America/New_York
END:VEVENT
BEGIN:VTIMEZONE
TZID:America/New_York
END:VTIMEZONE
END:VCALENDAR
