BEGIN:VCALENDAR
PRODID:georgia.gov
VERSION:2.0
CALSCALE:GREGORIAN
BEGIN:VEVENT
UID:ab96608cc64aaa3344c31abe72dc308f
DTSTAMP:20260421T074334Z
SUMMARY:First Day to Request Absentee Ballots for General Election
DESCRIPTION:County registrars may start mailing requested absentee ballots 
 on October 5.\n\nIt may take up to two weeks to receive your absentee ball
 ot from your county registrar.\n\nIf you are mailing back your absentee ba
 llot after you've completed and signed it\, it is recommended that you all
 ow an additional two weeks for it to be received. Completed and signed abs
 entee ballots must be received by 7 p.m. on Election Day\, November 3\, 20
 26.\n\nYou may also drop off your completed and signed absentee ballot int
 o your county's absentee ballot drop box or hand deliver it to your county
  registrar.\n\nYou can track your absentee ballot on your My Voter Page.
URL:https://georgia.gov/events/2026-08-17/first-day-request-absentee-ballot
 s-general-election
DTSTART;VALUE=DATE:20260817
DTEND;VALUE=DATE:20260818
X-LIC-LOCATION:America/New_York
X-WR-TIMEZONE:America/New_York
END:VEVENT
BEGIN:VTIMEZONE
TZID:America/New_York
END:VTIMEZONE
END:VCALENDAR
