BEGIN:VCALENDAR
PRODID:georgia.gov
VERSION:2.0
CALSCALE:GREGORIAN
BEGIN:VEVENT
UID:9b6f8c32eebc52aaca891cedb6410484
DTSTAMP:20260421T074221Z
SUMMARY:Sample Ballots Become Available for General Election
DESCRIPTION:Sample ballots in Georgia typically include a mock-up of the ac
 tual ballot\, a list of candidates and ballot measures\, the date of the e
 lection\, and instructions for voting.
URL:https://georgia.gov/events/2026-09-19/sample-ballots-become-available-g
 eneral-election
DTSTART;VALUE=DATE:20260919
DTEND;VALUE=DATE:20260920
X-LIC-LOCATION:America/New_York
X-WR-TIMEZONE:America/New_York
END:VEVENT
BEGIN:VTIMEZONE
TZID:America/New_York
END:VTIMEZONE
END:VCALENDAR
