BEGIN:VCALENDAR
PRODID:georgia.gov
VERSION:2.0
CALSCALE:GREGORIAN
BEGIN:VEVENT
UID:87959e17f17cc778a52f52878afa2755
DTSTAMP:20260421T074205Z
SUMMARY:First Day to Mail/Transmit UOCAVA Ballots to Eligible Voters for Ge
 neral Election
DESCRIPTION:If you are in the military\, a family member of an active servi
 ce member\, or you are currently living in another country\, the Uniformed
  and Overseas Citizens Absentee Voting Act (UOCAVA) entitles you to vote v
 ia electronic or mail ballot.\n\nTo find out more about UOCAVA ballots\, v
 isit the Georgia Secretary of State's website.
URL:https://georgia.gov/events/2026-09-15/first-day-mailtransmit-uocava-bal
 lots-eligible-voters-general-election
DTSTART;VALUE=DATE:20260915
DTEND;VALUE=DATE:20260916
X-LIC-LOCATION:America/New_York
X-WR-TIMEZONE:America/New_York
END:VEVENT
BEGIN:VTIMEZONE
TZID:America/New_York
END:VTIMEZONE
END:VCALENDAR
