BEGIN:VCALENDAR
PRODID:georgia.gov
VERSION:2.0
CALSCALE:GREGORIAN
BEGIN:VEVENT
UID:c179f369cacb73ebd840f589d0daa6c4
DTSTAMP:20260421T092426Z
SUMMARY:General Primary Election Day
DESCRIPTION:This election is used by political parties to choose their nomi
 nees for the November General Election. It also includes nonpartisan offic
 es\, like many judges\, where the actual winner is decided on this day.
URL:https://georgia.gov/events/2026-05-19/general-primary-election-day
DTSTART;VALUE=DATE:20260519
DTEND;VALUE=DATE:20260520
X-LIC-LOCATION:America/New_York
X-WR-TIMEZONE:America/New_York
END:VEVENT
BEGIN:VTIMEZONE
TZID:America/New_York
END:VTIMEZONE
END:VCALENDAR
