BEGIN:VCALENDAR
PRODID:georgia.gov
VERSION:2.0
CALSCALE:GREGORIAN
BEGIN:VEVENT
UID:232908d2a100da75ec63f02d052dd3b5
DTSTAMP:20260422T031640Z
SUMMARY:General Primary Early Voting
DESCRIPTION:This election is used by political parties to choose their nomi
 nees for the November General Election. It also includes nonpartisan offic
 es\, like many judges\, where the actual winner is decided on this day. 
URL:https://georgia.gov/events/2026-04-27/general-primary-early-voting
DTSTART;VALUE=DATE:20260427
DTEND;VALUE=DATE:20260516
X-LIC-LOCATION:America/New_York
X-WR-TIMEZONE:America/New_York
END:VEVENT
BEGIN:VTIMEZONE
TZID:America/New_York
END:VTIMEZONE
END:VCALENDAR
