BEGIN:VCALENDAR
PRODID:georgia.gov
VERSION:2.0
CALSCALE:GREGORIAN
BEGIN:VEVENT
UID:274ff75e34e3bec8f2746bd35d304d9c
DTSTAMP:20260421T074215Z
SUMMARY:General Primary Registration Deadline
DESCRIPTION:This election is used by political parties to choose their nomi
 nees for the November General Election. It also includes nonpartisan offic
 es\, like many judges\, where the actual winner is decided on this day. 
URL:https://georgia.gov/events/2026-04-20/general-primary-registration-dead
 line
DTSTART;VALUE=DATE:20260420
DTEND;VALUE=DATE:20260421
X-LIC-LOCATION:America/New_York
X-WR-TIMEZONE:America/New_York
END:VEVENT
BEGIN:VTIMEZONE
TZID:America/New_York
END:VTIMEZONE
END:VCALENDAR
