BEGIN:VCALENDAR
PRODID:georgia.gov
VERSION:2.0
CALSCALE:GREGORIAN
BEGIN:VEVENT
UID:5da97be7ab0bfb774b034626c0f1492e
DTSTAMP:20260421T092425Z
SUMMARY:General Primary Runoff Early Voting
DESCRIPTION:If no candidate gets more than 50 percent of the vote in the Ma
 y Primary\, the top two candidates go to a runoff. 
URL:https://georgia.gov/events/2026-06-08/general-primary-runoff-early-voti
 ng
DTSTART;VALUE=DATE:20260608
DTEND;VALUE=DATE:20260613
X-LIC-LOCATION:America/New_York
X-WR-TIMEZONE:America/New_York
END:VEVENT
BEGIN:VTIMEZONE
TZID:America/New_York
END:VTIMEZONE
END:VCALENDAR
